BEGIN:VCALENDAR
VERSION:2.0
PRODID:-//hacksw/handcal//NONSGML v1.0//EN
CALSCALE:GREGORIAN
BEGIN:VEVENT
LOCATION:\,  
DESCRIPTION:
DTSTART:20051211T151500Z
DTEND:20051211T171500Z
SUMMARY:26.09.18 - Neuchâtel Xamax FCS - FC Lugano
URL;VALUE=URI:https://xamax.ch/match/26-09-18-neuchatel-xamax-fcs-fc-lugano-5/
DTSTAMP:20260419T182807Z
UID:69e51eb75fa76
END:VEVENT
END:VCALENDAR
