BEGIN:VCALENDAR
VERSION:2.0
PRODID:-//hacksw/handcal//NONSGML v1.0//EN
CALSCALE:GREGORIAN
BEGIN:VEVENT
LOCATION:Badenerstrasse 500\, 8048 Zürich
DESCRIPTION:Stadion Letzigrund\, Zürich
DTSTART:20110507T154500Z
DTEND:20110507T174500Z
SUMMARY:18.07.09 - Neuchâtel Xamax FCS - FC Zürich
URL;VALUE=URI:https://xamax.ch/match/18-07-09-neuchatel-xamax-fcs-fc-zurich-3/
DTSTAMP:20260421T183538Z
UID:69e7c37ab8d20
END:VEVENT
END:VCALENDAR
