BEGIN:VCALENDAR
VERSION:2.0
PRODID:-//hacksw/handcal//NONSGML v1.0//EN
CALSCALE:GREGORIAN
BEGIN:VEVENT
LOCATION:Badenerstrasse 500\, 8048 Zürich
DESCRIPTION:Stadion Letzigrund\, Zürich
DTSTART:20110507T154500Z
DTEND:20110507T174500Z
SUMMARY:01.11.15 - FC Winterthur - Neuchâtel Xamax FCS
URL;VALUE=URI:https://xamax.ch/match/01-11-15-fc-winterthur-neuchatel-xamax-fcs-7/
DTSTAMP:20260421T183539Z
UID:69e7c37b16362
END:VEVENT
END:VCALENDAR
