BEGIN:VCALENDAR
VERSION:2.0
PRODID:-//hacksw/handcal//NONSGML v1.0//EN
CALSCALE:GREGORIAN
BEGIN:VEVENT
LOCATION:\,  
DESCRIPTION:
DTSTART:20040815T140000Z
DTEND:20040815T160000Z
SUMMARY:26.09.18 - Neuchâtel Xamax FCS - FC Lugano
URL;VALUE=URI:https://xamax.ch/match/26-09-18-neuchatel-xamax-fcs-fc-lugano-6/
DTSTAMP:20260419T120059Z
UID:69e4c3fb73abb
END:VEVENT
END:VCALENDAR
