BEGIN:VCALENDAR
VERSION:2.0
PRODID:-//hacksw/handcal//NONSGML v1.0//EN
CALSCALE:GREGORIAN
BEGIN:VEVENT
LOCATION:Papiermühlestrasse 71\, 3014 Bern
DESCRIPTION:Stade de Suisse\, Bern
DTSTART:20051211T151500Z
DTEND:20051211T171500Z
SUMMARY:22.05.19 - Neuchâtel Xamax FCS - FC Lugano
URL;VALUE=URI:https://xamax.ch/match/22-05-19-neuchatel-xamax-fcs-fc-lugano-5/
DTSTAMP:20260419T182808Z
UID:69e51eb84c683
END:VEVENT
END:VCALENDAR
