BEGIN:VCALENDAR
VERSION:2.0
PRODID:-//hacksw/handcal//NONSGML v1.0//EN
CALSCALE:GREGORIAN
BEGIN:VEVENT
LOCATION:Papiermühlestrasse 71\, 3014 Bern
DESCRIPTION:Stade de Suisse\, Bern
DTSTART:20051211T151500Z
DTEND:20051211T171500Z
SUMMARY:03.04.19 - FC Lugano - Neuchâtel Xamax FCS
URL;VALUE=URI:https://xamax.ch/match/03-04-19-fc-lugano-neuchatel-xamax-fcs-8/
DTSTAMP:20260419T182803Z
UID:69e51eb3a2437
END:VEVENT
END:VCALENDAR
