BEGIN:VCALENDAR
VERSION:2.0
PRODID:-//hacksw/handcal//NONSGML v1.0//EN
CALSCALE:GREGORIAN
BEGIN:VEVENT
LOCATION:\,  
DESCRIPTION:
DTSTART:20051118T183000Z
DTEND:20051118T203000Z
SUMMARY:16.08.09 - FC Aarau - Neuchâtel Xamax FCS
URL;VALUE=URI:https://xamax.ch/match/16-08-09-fc-aarau-neuchatel-xamax-fcs-2/
DTSTAMP:20260423T165334Z
UID:69ea4e8e8ae0f
END:VEVENT
END:VCALENDAR
