BEGIN:VCALENDAR
VERSION:2.0
PRODID:-//hacksw/handcal//NONSGML v1.0//EN
CALSCALE:GREGORIAN
BEGIN:VEVENT
LOCATION:Rue Pierre-à-Mazel 10\, 2001 Neuchâtel
DESCRIPTION:Stade de la Maladière\, Neuchâtel
DTSTART:20091101T150000Z
DTEND:20091101T170000Z
SUMMARY:18.11.05 - FC Thun - Neuchâtel Xamax FCS
URL;VALUE=URI:https://xamax.ch/match/18-11-05-fc-thun-neuchatel-xamax-fcs-18/
DTSTAMP:20260421T183540Z
UID:69e7c37c2b073
END:VEVENT
END:VCALENDAR
