BEGIN:VCALENDAR
VERSION:2.0
PRODID:-//hacksw/handcal//NONSGML v1.0//EN
CALSCALE:GREGORIAN
BEGIN:VEVENT
LOCATION:\,  
DESCRIPTION:
DTSTART:20040815T140000Z
DTEND:20040815T160000Z
SUMMARY:01.11.09 - Neuchâtel Xamax FCS - FC Aarau
URL;VALUE=URI:https://xamax.ch/match/01-11-09-neuchatel-xamax-fcs-fc-aarau-3/
DTSTAMP:20260423T125705Z
UID:69ea172141e6b
END:VEVENT
END:VCALENDAR
