BEGIN:VCALENDAR
VERSION:2.0
PRODID:-//hacksw/handcal//NONSGML v1.0//EN
CALSCALE:GREGORIAN
BEGIN:VEVENT
LOCATION:\, 5034 Suhr
DESCRIPTION:Stadion Brügglifeld\, Aarau
DTSTART:20090816T140000Z
DTEND:20090816T160000Z
SUMMARY:25.03.07 - Neuchâtel Xamax FCS - FC Lugano
URL;VALUE=URI:https://xamax.ch/match/25-03-07-neuchatel-xamax-fcs-fc-lugano-5/
DTSTAMP:20260421T115740Z
UID:69e76634ca007
END:VEVENT
END:VCALENDAR
