BEGIN:VCALENDAR
VERSION:2.0
PRODID:-//hacksw/handcal//NONSGML v1.0//EN
CALSCALE:GREGORIAN
BEGIN:VEVENT
LOCATION:\,  
DESCRIPTION:
DTSTART:20041107T150000Z
DTEND:20041107T170000Z
SUMMARY:26.09.18 - Neuchâtel Xamax FCS - FC Lugano
URL;VALUE=URI:https://xamax.ch/match/26-09-18-neuchatel-xamax-fcs-fc-lugano-8/
DTSTAMP:20260419T120059Z
UID:69e4c3fbc1393
END:VEVENT
END:VCALENDAR
