BEGIN:VCALENDAR
VERSION:2.0
PRODID:-//hacksw/handcal//NONSGML v1.0//EN
CALSCALE:GREGORIAN
BEGIN:VEVENT
LOCATION:\,  
DESCRIPTION:
DTSTART:20041107T150000Z
DTEND:20041107T170000Z
SUMMARY:02.12.18 - FC Lugano - Neuchâtel Xamax FCS
URL;VALUE=URI:https://xamax.ch/match/02-12-18-fc-lugano-neuchatel-xamax-fcs-8/
DTSTAMP:20260421T115740Z
UID:69e76634e28b4
END:VEVENT
END:VCALENDAR
