BEGIN:VCALENDAR
VERSION:2.0
PRODID:-//hacksw/handcal//NONSGML v1.0//EN
CALSCALE:GREGORIAN
BEGIN:VEVENT
LOCATION:Rue Pierre-à-Mazel 10\, 2001 Neuchâtel
DESCRIPTION:Stade de la Maladière\, Neuchâtel
DTSTART:20190522T180000Z
DTEND:20190522T200000Z
SUMMARY:22.05.19 - Neuchâtel Xamax FCS - FC Lugano
URL;VALUE=URI:https://xamax.ch/match/22-05-19-neuchatel-xamax-fcs-fc-lugano-6/
DTSTAMP:20260421T115735Z
UID:69e7662f69e7b
END:VEVENT
END:VCALENDAR
