BEGIN:VCALENDAR
VERSION:2.0
PRODID:-//hacksw/handcal//NONSGML v1.0//EN
CALSCALE:GREGORIAN
BEGIN:VEVENT
LOCATION:\,  
DESCRIPTION:
DTSTART:20041107T150000Z
DTEND:20041107T170000Z
SUMMARY:03.04.19 - FC Lugano - Neuchâtel Xamax FCS
URL;VALUE=URI:https://xamax.ch/match/03-04-19-fc-lugano-neuchatel-xamax-fcs-9/
DTSTAMP:20260421T115738Z
UID:69e76632c1a8d
END:VEVENT
END:VCALENDAR
