BEGIN:VCALENDAR
VERSION:2.0
PRODID:-//hacksw/handcal//NONSGML v1.0//EN
CALSCALE:GREGORIAN
BEGIN:VEVENT
LOCATION:\,  
DESCRIPTION:
DTSTART:20041107T150000Z
DTEND:20041107T170000Z
SUMMARY:22.05.19 - Neuchâtel Xamax FCS - FC Lugano
URL;VALUE=URI:https://xamax.ch/match/22-05-19-neuchatel-xamax-fcs-fc-lugano-8/
DTSTAMP:20260423T110507Z
UID:69e9fce3dd052
END:VEVENT
END:VCALENDAR
