BEGIN:VCALENDAR
VERSION:2.0
PRODID:-//hacksw/handcal//NONSGML v1.0//EN
CALSCALE:GREGORIAN
BEGIN:VEVENT
LOCATION:\,  
DESCRIPTION:
DTSTART:20060423T123000Z
DTEND:20060423T143000Z
SUMMARY:23.04.06 - Neuchâtel Xamax FCS - FC Schaffhausen
URL;VALUE=URI:https://xamax.ch/match/23-04-06-neuchatel-xamax-fcs-fc-schaffhausen-3/
DTSTAMP:20260419T140442Z
UID:69e4e0faa903d
END:VEVENT
END:VCALENDAR
