BEGIN:VCALENDAR
VERSION:2.0
PRODID:-//hacksw/handcal//NONSGML v1.0//EN
CALSCALE:GREGORIAN
BEGIN:VEVENT
LOCATION:Rue Pierre-à-Mazel 10\, 2001 Neuchâtel
DESCRIPTION:Stade de la Maladière\, Neuchâtel
DTSTART:20070409T140000Z
DTEND:20070409T160000Z
SUMMARY:22.05.19 - Neuchâtel Xamax FCS - FC Lugano
URL;VALUE=URI:https://xamax.ch/match/22-05-19-neuchatel-xamax-fcs-fc-lugano-9/
DTSTAMP:20260419T230215Z
UID:69e55ef7a5a6f
END:VEVENT
END:VCALENDAR
