BEGIN:VCALENDAR
VERSION:2.0
PRODID:-//hacksw/handcal//NONSGML v1.0//EN
CALSCALE:GREGORIAN
BEGIN:VEVENT
LOCATION:\,  
DESCRIPTION:
DTSTART:20040815T140000Z
DTEND:20040815T160000Z
SUMMARY:22.05.19 - Neuchâtel Xamax FCS - FC Lugano
URL;VALUE=URI:https://xamax.ch/match/22-05-19-neuchatel-xamax-fcs-fc-lugano-10/
DTSTAMP:20260421T183540Z
UID:69e7c37c403f6
END:VEVENT
END:VCALENDAR
