BEGIN:VCALENDAR
VERSION:2.0
PRODID:-//hacksw/handcal//NONSGML v1.0//EN
CALSCALE:GREGORIAN
BEGIN:VEVENT
LOCATION:Via Trevano 100\, 6900 Lugano
DESCRIPTION:Stadio di Cornaredo\, Lugano
DTSTART:20190929T140000Z
DTEND:20190929T160000Z
SUMMARY:29.09.19 - FC Lugano - Neuchâtel Xamax FCS
URL;VALUE=URI:https://xamax.ch/match/29-09-19-fc-lugano-neuchatel-xamax-fcs-6/
DTSTAMP:20260419T182804Z
UID:69e51eb4db835
END:VEVENT
END:VCALENDAR
