BEGIN:VCALENDAR
VERSION:2.0
PRODID:-//hacksw/handcal//NONSGML v1.0//EN
CALSCALE:GREGORIAN
BEGIN:VEVENT
LOCATION:\,  
DESCRIPTION:
DTSTART:20040815T140000Z
DTEND:20040815T160000Z
SUMMARY:17.09.06 - Servette FC - Neuchâtel Xamax FCS
URL;VALUE=URI:https://xamax.ch/match/17-09-06-servette-fc-neuchatel-xamax-fcs-3/
DTSTAMP:20260421T115737Z
UID:69e766317819e
END:VEVENT
END:VCALENDAR
