BEGIN:VCALENDAR
VERSION:2.0
PRODID:-//hacksw/handcal//NONSGML v1.0//EN
CALSCALE:GREGORIAN
BEGIN:VEVENT
LOCATION:Rue Pierre-à-Mazel 10\, 2001 Neuchâtel
DESCRIPTION:Stade de la Maladière\, Neuchâtel
DTSTART:20070409T140000Z
DTEND:20070409T160000Z
SUMMARY:26.09.18 - Neuchâtel Xamax FCS - FC Lugano
URL;VALUE=URI:https://xamax.ch/match/26-09-18-neuchatel-xamax-fcs-fc-lugano-9/
DTSTAMP:20260421T193011Z
UID:69e7d0430e5f5
END:VEVENT
END:VCALENDAR
