BEGIN:VCALENDAR
VERSION:2.0
PRODID:-//hacksw/handcal//NONSGML v1.0//EN
CALSCALE:GREGORIAN
BEGIN:VEVENT
LOCATION:Rue Pierre-à-Mazel 10\, 2001 Neuchâtel
DESCRIPTION:Stade de la Maladière\, Neuchâtel
DTSTART:20090524T141500Z
DTEND:20090524T161500Z
SUMMARY:24.05.09 - Neuchâtel Xamax FCS - FC Aarau
URL;VALUE=URI:https://xamax.ch/match/24-05-09-neuchatel-xamax-fcs-fc-aarau-4/
DTSTAMP:20260419T184234Z
UID:69e5221a96ea2
END:VEVENT
END:VCALENDAR
