BEGIN:VCALENDAR
VERSION:2.0
PRODID:-//hacksw/handcal//NONSGML v1.0//EN
CALSCALE:GREGORIAN
BEGIN:VEVENT
LOCATION:Route des Jeunes 16\, 1227 Lancy
DESCRIPTION:Stade de Genève\, Genève
DTSTART:20060917T123000Z
DTEND:20060917T143000Z
SUMMARY:17.09.06 - Servette FC - Neuchâtel Xamax FCS
URL;VALUE=URI:https://xamax.ch/match/17-09-06-servette-fc-neuchatel-xamax-fcs-6/
DTSTAMP:20260421T123511Z
UID:69e76eff9621e
END:VEVENT
END:VCALENDAR
