BEGIN:VCALENDAR
VERSION:2.0
PRODID:-//hacksw/handcal//NONSGML v1.0//EN
CALSCALE:GREGORIAN
BEGIN:VEVENT
LOCATION:\,  
DESCRIPTION:Hardturm\, Zürich
DTSTART:20050921T173000Z
DTEND:20050921T193000Z
SUMMARY:21.09.05 - Grasshopper Club Zürich - Neuchâtel Xamax FCS
URL;VALUE=URI:https://xamax.ch/match/21-09-05-grasshopper-club-zurich-neuchatel-xamax-fcs-8/
DTSTAMP:20260419T182809Z
UID:69e51eb92b1bf
END:VEVENT
END:VCALENDAR
