BEGIN:VCALENDAR
VERSION:2.0
PRODID:-//hacksw/handcal//NONSGML v1.0//EN
CALSCALE:GREGORIAN
BEGIN:VEVENT
LOCATION:\,  
DESCRIPTION:
DTSTART:20050525T163000Z
DTEND:20050525T183000Z
SUMMARY:25.05.05 - Neuchâtel Xamax FCS - Grasshopper Club Zürich
URL;VALUE=URI:https://xamax.ch/match/25-05-05-neuchatel-xamax-fcs-grasshopper-club-zurich-4/
DTSTAMP:20260419T145539Z
UID:69e4ecebb680b
END:VEVENT
END:VCALENDAR
