BEGIN:VCALENDAR
VERSION:2.0
PRODID:-//hacksw/handcal//NONSGML v1.0//EN
CALSCALE:GREGORIAN
BEGIN:VEVENT
LOCATION:\,  
DESCRIPTION:
DTSTART:20050312T163000Z
DTEND:20050312T183000Z
SUMMARY:12.03.05 - Grasshopper Club Zürich - Neuchâtel Xamax FCS
URL;VALUE=URI:https://xamax.ch/match/12-03-05-grasshopper-club-zurich-neuchatel-xamax-fcs-4/
DTSTAMP:20260419T175344Z
UID:69e516a803da5
END:VEVENT
END:VCALENDAR
