BEGIN:VCALENDAR
VERSION:2.0
PRODID:-//hacksw/handcal//NONSGML v1.0//EN
CALSCALE:GREGORIAN
BEGIN:VEVENT
LOCATION:\,  
DESCRIPTION:
DTSTART:20041114T133000Z
DTEND:20041114T153000Z
SUMMARY:14.11.04 - Neuchâtel Xamax FCS - Grasshopper Club Zürich
URL;VALUE=URI:https://xamax.ch/match/14-11-04-neuchatel-xamax-fcs-grasshopper-club-zurich-2/
DTSTAMP:20260419T140442Z
UID:69e4e0fade7dd
END:VEVENT
END:VCALENDAR
