BEGIN:VCALENDAR
VERSION:2.0
PRODID:-//hacksw/handcal//NONSGML v1.0//EN
CALSCALE:GREGORIAN
BEGIN:VEVENT
LOCATION:Rte des Plaines-du-Loup 7\, 1018 Lausanne
DESCRIPTION:Stade Olympique de la Pontaise\, Lausanne
DTSTART:20051211T150000Z
DTEND:20051211T170000Z
SUMMARY:11.12.05 - Neuchâtel Xamax FCS - Grasshopper Club Zürich
URL;VALUE=URI:https://xamax.ch/match/11-12-05-neuchatel-xamax-fcs-grasshopper-club-zurich-11/
DTSTAMP:20260421T124416Z
UID:69e77120ac762
END:VEVENT
END:VCALENDAR
