BEGIN:VCALENDAR
VERSION:2.0
PRODID:-//hacksw/handcal//NONSGML v1.0//EN
CALSCALE:GREGORIAN
BEGIN:VEVENT
LOCATION:\, 5034 Suhr
DESCRIPTION:Stadion Brügglifeld\, Aarau
DTSTART:20060329T164500Z
DTEND:20060329T184500Z
SUMMARY:19.02.06 - Grasshopper Club Zürich - Neuchâtel Xamax FCS
URL;VALUE=URI:https://xamax.ch/match/19-02-06-grasshopper-club-zurich-neuchatel-xamax-fcs-10/
DTSTAMP:20260419T175345Z
UID:69e516a9398e0
END:VEVENT
END:VCALENDAR
