BEGIN:VCALENDAR
VERSION:2.0
PRODID:-//hacksw/handcal//NONSGML v1.0//EN
CALSCALE:GREGORIAN
BEGIN:VEVENT
LOCATION:Rue Pierre-à-Mazel 10\, 2001 Neuchâtel
DESCRIPTION:Stade de la Maladière\, Neuchâtel
DTSTART:20100321T150000Z
DTEND:20100321T170000Z
SUMMARY:21.03.10 - Neuchâtel Xamax FCS - FC Aarau
URL;VALUE=URI:https://xamax.ch/match/21-03-10-neuchatel-xamax-fcs-fc-aarau-6/
DTSTAMP:20260420T131928Z
UID:69e627e0c2db5
END:VEVENT
END:VCALENDAR
