BEGIN:VCALENDAR
VERSION:2.0
PRODID:-//hacksw/handcal//NONSGML v1.0//EN
CALSCALE:GREGORIAN
BEGIN:VEVENT
LOCATION:\,  
DESCRIPTION:
DTSTART:20040821T173000Z
DTEND:20040821T193000Z
SUMMARY:21.08.04 - Grasshopper Club Zürich - Neuchâtel Xamax FCS
URL;VALUE=URI:https://xamax.ch/match/21-08-04-grasshopper-club-zurich-neuchatel-xamax-fcs-2/
DTSTAMP:20260420T104409Z
UID:69e6037974273
END:VEVENT
END:VCALENDAR
