BEGIN:VCALENDAR
VERSION:2.0
PRODID:-//hacksw/handcal//NONSGML v1.0//EN
CALSCALE:GREGORIAN
BEGIN:VEVENT
LOCATION:\,  
DESCRIPTION:Charrière\, La Chaux-de-Fonds
DTSTART:20060506T154500Z
DTEND:20060506T174500Z
SUMMARY:06.05.06 - Neuchâtel Xamax FCS - Grasshopper Club Zürich
URL;VALUE=URI:https://xamax.ch/match/06-05-06-neuchatel-xamax-fcs-grasshopper-club-zurich-17/
DTSTAMP:20260420T011640Z
UID:69e57e78a9fde
END:VEVENT
END:VCALENDAR
