BEGIN:VCALENDAR
VERSION:2.0
PRODID:-//hacksw/handcal//NONSGML v1.0//EN
CALSCALE:GREGORIAN
BEGIN:VEVENT
LOCATION:Badenerstrasse 500\, 8048 Zürich
DESCRIPTION:Stadion Letzigrund\, Zürich
DTSTART:20090322T150000Z
DTEND:20090322T170000Z
SUMMARY:22.03.09 - Grasshopper Club Zürich - Neuchâtel Xamax FCS
URL;VALUE=URI:https://xamax.ch/match/22-03-09-grasshopper-club-zurich-neuchatel-xamax-fcs-2/
DTSTAMP:20260419T180913Z
UID:69e51a4941335
END:VEVENT
END:VCALENDAR
