BEGIN:VCALENDAR
VERSION:2.0
PRODID:-//hacksw/handcal//NONSGML v1.0//EN
CALSCALE:GREGORIAN
BEGIN:VEVENT
LOCATION:Badenerstrasse 500\, 8048 Zürich
DESCRIPTION:Stadion Letzigrund\, Zürich
DTSTART:20110507T154500Z
DTEND:20110507T174500Z
SUMMARY:28.02.16 - Neuchâtel Xamax FCS - FC Winterthur
URL;VALUE=URI:https://xamax.ch/match/28-02-16-neuchatel-xamax-fcs-fc-winterthur-9/
DTSTAMP:20260421T193011Z
UID:69e7d04351568
END:VEVENT
END:VCALENDAR
