BEGIN:VCALENDAR
VERSION:2.0
PRODID:-//hacksw/handcal//NONSGML v1.0//EN
CALSCALE:GREGORIAN
BEGIN:VEVENT
LOCATION:Lettstrasse 74\, 9490 Vaduz
DESCRIPTION:Rheinpark Stadion\, Vaduz
DTSTART:20220422T181500Z
DTEND:20220422T201500Z
SUMMARY:22.04.22 - FC Vaduz - Neuch&#xE2\;tel Xamax FCS
URL;VALUE=URI:https://xamax.ch/match/22-04-22-fc-vaduz-neuchtel-xamax-fcs/
DTSTAMP:20260419T175343Z
UID:69e516a721fd0
END:VEVENT
END:VCALENDAR
