BEGIN:VCALENDAR
VERSION:2.0
PRODID:-//hacksw/handcal//NONSGML v1.0//EN
CALSCALE:GREGORIAN
BEGIN:VEVENT
LOCATION:Rue Pierre-&#xE0\;-Mazel 10\, 2001 Neuch&#xE2\;tel
DESCRIPTION:Stade de la Maladi&#xE8\;re\, Neuch&#xE2\;tel
DTSTART:20220429T173000Z
DTEND:20220429T193000Z
SUMMARY:29.04.22 - Neuch&#xE2\;tel Xamax FCS - FC Aarau
URL;VALUE=URI:https://xamax.ch/match/29-04-22-neuchtel-xamax-fcs-fc-aarau/
DTSTAMP:20260419T175345Z
UID:69e516a9b0f06
END:VEVENT
END:VCALENDAR
