BEGIN:VCALENDAR
VERSION:2.0
PRODID:-//hacksw/handcal//NONSGML v1.0//EN
CALSCALE:GREGORIAN
BEGIN:VEVENT
LOCATION:\,  
DESCRIPTION:
DTSTART:20050814T140000Z
DTEND:20050814T160000Z
SUMMARY:14.08.05 - FC Zürich - Neuchâtel Xamax FCS
URL;VALUE=URI:https://xamax.ch/match/14-08-05-fc-zurich-neuchatel-xamax-fcs-2/
DTSTAMP:20260420T104409Z
UID:69e60379440e4
END:VEVENT
END:VCALENDAR
