BEGIN:VCALENDAR
VERSION:2.0
PRODID:-//hacksw/handcal//NONSGML v1.0//EN
CALSCALE:GREGORIAN
BEGIN:VEVENT
LOCATION:Papiermühlestrasse 71\, 3014 Bern
DESCRIPTION:Stade de Suisse\, Bern
DTSTART:20190202T180000Z
DTEND:20190202T200000Z
SUMMARY:02.02.19 - BSC Young Boys - Neuchâtel Xamax FCS
URL;VALUE=URI:https://xamax.ch/match/02-02-19-bsc-young-boys-neuchatel-xamax-fcs-2/
DTSTAMP:20260421T183538Z
UID:69e7c37aa69c8
END:VEVENT
END:VCALENDAR
