BEGIN:VCALENDAR
VERSION:2.0
PRODID:-//hacksw/handcal//NONSGML v1.0//EN
CALSCALE:GREGORIAN
BEGIN:VEVENT
LOCATION:Industriestrasse 2a\, 8207 Schaffhausen
DESCRIPTION:wefox Arena\, Schaffhausen
DTSTART:20220729T173000Z
DTEND:20220729T193000Z
SUMMARY:29.07.22 - FC Schaffhausen - Neuch&#xE2\;tel Xamax FCS
URL;VALUE=URI:https://xamax.ch/match/29-07-22-fc-schaffhausen-neuchtel-xamax-fcs/
DTSTAMP:20260419T195004Z
UID:69e531ec75405
END:VEVENT
END:VCALENDAR
