BEGIN:VCALENDAR
VERSION:2.0
PRODID:-//hacksw/handcal//NONSGML v1.0//EN
CALSCALE:GREGORIAN
BEGIN:VEVENT
LOCATION:\,  
DESCRIPTION:Stadio Comunale\, Bellinzona
DTSTART:20220827T160000Z
DTEND:20220827T180000Z
SUMMARY:27.08.22 - AC Bellinzona - Neuch&#xE2\;tel Xamax FCS
URL;VALUE=URI:https://xamax.ch/match/27-08-22-ac-bellinzona-neuchtel-xamax-fcs/
DTSTAMP:20260421T003015Z
UID:69e6c51743d9a
END:VEVENT
END:VCALENDAR
