BEGIN:VCALENDAR
VERSION:2.0
PRODID:-//hacksw/handcal//NONSGML v1.0//EN
CALSCALE:GREGORIAN
BEGIN:VEVENT
LOCATION:Rte des Plaines-du-Loup 7\, 1018 Lausanne
DESCRIPTION:Stade Olympique de la Pontaise\, Lausanne
DTSTART:20220903T160000Z
DTEND:20220903T180000Z
SUMMARY:03.09.22 - FC Stade-Lausanne-Ouchy - Neuch&#xE2\;tel Xamax FCS
URL;VALUE=URI:https://xamax.ch/match/03-09-22-fc-stade-lausanne-ouchy-neuchtel-xamax-fcs/
DTSTAMP:20260424T091132Z
UID:69eb33c4992ae
END:VEVENT
END:VCALENDAR
