BEGIN:VCALENDAR
VERSION:2.0
PRODID:-//hacksw/handcal//NONSGML v1.0//EN
CALSCALE:GREGORIAN
BEGIN:VEVENT
LOCATION:Weststrasse 12\, 3604 Thun
DESCRIPTION:Stockhorn Arena\, Thun
DTSTART:20220930T181500Z
DTEND:20220930T201500Z
SUMMARY:30.09.22 - FC Thun Berner Oberland - Neuch&#xE2\;tel Xamax FCS
URL;VALUE=URI:https://xamax.ch/match/30-09-22-fc-thun-berner-oberland-neuchtel-xamax-fcs/
DTSTAMP:20260419T153301Z
UID:69e4f5ade3f15
END:VEVENT
END:VCALENDAR
