BEGIN:VCALENDAR
VERSION:2.0
PRODID:-//hacksw/handcal//NONSGML v1.0//EN
CALSCALE:GREGORIAN
BEGIN:VEVENT
LOCATION:Rue Pierre-&#xE0\;-Mazel 10\, 2001 Neuch&#xE2\;tel
DESCRIPTION:Stade de la Maladi&#xE8\;re\, Neuch&#xE2\;tel
DTSTART:20221007T173000Z
DTEND:20221007T193000Z
SUMMARY:07.10.22 - Neuch&#xE2\;tel Xamax FCS - AC Bellinzona
URL;VALUE=URI:https://xamax.ch/match/07-10-22-neuchtel-xamax-fcs-ac-bellinzona/
DTSTAMP:20260421T003014Z
UID:69e6c516cb1f5
END:VEVENT
END:VCALENDAR
