BEGIN:VCALENDAR
VERSION:2.0
PRODID:-//hacksw/handcal//NONSGML v1.0//EN
CALSCALE:GREGORIAN
BEGIN:VEVENT
LOCATION:Rue Pierre-&#xE0\;-Mazel 10\, 2001 Neuch&#xE2\;tel
DESCRIPTION:Stade de la Maladi&#xE8\;re\, Neuch&#xE2\;tel
DTSTART:20230303T191500Z
DTEND:20230303T211500Z
SUMMARY:03.03.23 - Neuch&#xE2\;tel Xamax FCS - FC Aarau
URL;VALUE=URI:https://xamax.ch/match/03-03-23-neuchtel-xamax-fcs-fc-aarau/
DTSTAMP:20260422T124421Z
UID:69e8c2a5cae11
END:VEVENT
END:VCALENDAR
