BEGIN:VCALENDAR
VERSION:2.0
PRODID:-//hacksw/handcal//NONSGML v1.0//EN
CALSCALE:GREGORIAN
BEGIN:VEVENT
LOCATION:\,  
DESCRIPTION:Stadio Comunale\, Bellinzona
DTSTART:20230319T131500Z
DTEND:20230319T151500Z
SUMMARY:19.03.23 - AC Bellinzona - Neuch&#xE2\;tel Xamax FCS
URL;VALUE=URI:https://xamax.ch/match/19-03-23-ac-bellinzona-neuchtel-xamax-fcs/
DTSTAMP:20260425T171258Z
UID:69ecf61ad7fa0
END:VEVENT
END:VCALENDAR
