BEGIN:VCALENDAR
VERSION:2.0
PRODID:-//hacksw/handcal//NONSGML v1.0//EN
CALSCALE:GREGORIAN
BEGIN:VEVENT
LOCATION:Rue Pierre-&#xE0\;-Mazel 10\, 2001 Neuch&#xE2\;tel
DESCRIPTION:Stade de la Maladi&#xE8\;re\, Neuch&#xE2\;tel
DTSTART:20230428T173000Z
DTEND:20230428T193000Z
SUMMARY:28.04.23 - Neuch&#xE2\;tel Xamax FCS - FC Thun Berner Oberland
URL;VALUE=URI:https://xamax.ch/match/28-04-23-neuchtel-xamax-fcs-fc-thun-berner-oberland/
DTSTAMP:20260420T172508Z
UID:69e66174638cd
END:VEVENT
END:VCALENDAR
