BEGIN:VCALENDAR
VERSION:2.0
PRODID:-//hacksw/handcal//NONSGML v1.0//EN
CALSCALE:GREGORIAN
BEGIN:VEVENT
LOCATION:Weststrasse 12\, 3604 Thun
DESCRIPTION:Stockhorn Arena\, Thun
DTSTART:20230205T153000Z
DTEND:20230205T173000Z
SUMMARY:05.02.23 - FC Thun Berner Oberland - Neuch&#xE2\;tel Xamax FCS
URL;VALUE=URI:https://xamax.ch/match/05-02-23-fc-thun-berner-oberland-neuchtel-xamax-fcs/
DTSTAMP:20260419T153303Z
UID:69e4f5afe2774
END:VEVENT
END:VCALENDAR
