BEGIN:VCALENDAR
VERSION:2.0
PRODID:-//hacksw/handcal//NONSGML v1.0//EN
CALSCALE:GREGORIAN
BEGIN:VEVENT
LOCATION:Rue Pierre-&#xE0\;-Mazel 10\, 2001 Neuch&#xE2\;tel
DESCRIPTION:Stade de la Maladi&#xE8\;re\, Neuch&#xE2\;tel
DTSTART:20230519T181500Z
DTEND:20230519T201500Z
SUMMARY:19.05.23 - Neuch&#xE2\;tel Xamax FCS - AC Bellinzona
URL;VALUE=URI:https://xamax.ch/match/19-05-23-neuchtel-xamax-fcs-ac-bellinzona/
DTSTAMP:20260420T210104Z
UID:69e69410bdff9
END:VEVENT
END:VCALENDAR
