BEGIN:VCALENDAR
VERSION:2.0
PRODID:-//hacksw/handcal//NONSGML v1.0//EN
CALSCALE:GREGORIAN
BEGIN:VEVENT
LOCATION:Industriestrasse 2a\, 8207 Schaffhausen
DESCRIPTION:wefox Arena\, Schaffhausen
DTSTART:20230523T181500Z
DTEND:20230523T201500Z
SUMMARY:23.05.23 - FC Schaffhausen - Neuch&#xE2\;tel Xamax FCS
URL;VALUE=URI:https://xamax.ch/match/23-05-23-fc-schaffhausen-neuchtel-xamax-fcs/
DTSTAMP:20260420T025608Z
UID:69e595c84c393
END:VEVENT
END:VCALENDAR
