BEGIN:VCALENDAR
VERSION:2.0
PRODID:-//hacksw/handcal//NONSGML v1.0//EN
CALSCALE:GREGORIAN
BEGIN:VEVENT
LOCATION:Campusweg 15\, 4142 Münchenstein
DESCRIPTION:Nachwuchs Campus Basel
DTSTART:20220710T130000Z
DTEND:20220710T150000Z
SUMMARY:10.07.22 - FC Bâle - Neuchâtel Xamax
URL;VALUE=URI:https://xamax.ch/match/18-06-22-fc-bale-neuchatel-xamax-2/
DTSTAMP:20260419T140442Z
UID:69e4e0fa73231
END:VEVENT
END:VCALENDAR
